BEGIN:VCALENDAR
VERSION:2.0
PRODID:-//habitatcb.org//NONSGML kigkonsult.se iCalcreator 2.30.10//
CALSCALE:GREGORIAN
METHOD:PUBLISH
UID:b0278176-1bba-4896-b8f6-43047e80368e
X-WR-CALDESC:
X-WR-RELCALID:4362227aa78ab0b450de7e1a4c1ad6b5
X-WR-TIMEZONE:America/Chicago
BEGIN:VTIMEZONE
TZID:America/Chicago
BEGIN:STANDARD
TZNAME:CST
DTSTART:20241103T020000
TZOFFSETFROM:-0500
TZOFFSETTO:-0600
RDATE:20251102T020000
RDATE:20261101T020000
END:STANDARD
BEGIN:DAYLIGHT
TZNAME:CDT
DTSTART:20250309T020000
TZOFFSETFROM:-0600
TZOFFSETTO:-0500
RDATE:20260308T020000
END:DAYLIGHT
END:VTIMEZONE
BEGIN:VEVENT
UID:0c33989e-debe-4b99-b675-a5bc05d3db4f
DTSTAMP:20260423T110204Z
DESCRIPTION:
DTSTART;TZID=America/Chicago:20250819T110000
DTEND;TZID=America/Chicago:20250819T120000
LOCATION:1228 S Main St\, Council Bluffs\, AL 51503 US
SUMMARY:Homebuyer Information Session
END:VEVENT
END:VCALENDAR
