BEGIN:VCALENDAR
VERSION:2.0
PRODID:-//habitatcb.org//NONSGML kigkonsult.se iCalcreator 2.30.10//
CALSCALE:GREGORIAN
METHOD:PUBLISH
UID:75c514c1-f571-4b9e-83f2-2527ac1d2937
X-WR-CALDESC:
X-WR-RELCALID:d0076dc69c6c969f71615c72b49747eb
X-WR-TIMEZONE:America/Chicago
BEGIN:VTIMEZONE
TZID:America/Chicago
BEGIN:STANDARD
TZNAME:CST
DTSTART:20241103T020000
TZOFFSETFROM:-0500
TZOFFSETTO:-0600
RDATE:20251102T020000
RDATE:20261101T020000
END:STANDARD
BEGIN:DAYLIGHT
TZNAME:CDT
DTSTART:20250309T020000
TZOFFSETFROM:-0600
TZOFFSETTO:-0500
RDATE:20260308T020000
RDATE:20270314T020000
END:DAYLIGHT
END:VTIMEZONE
BEGIN:VEVENT
UID:488a2ea3-47d6-44c4-82ed-b8411844b8b2
DTSTAMP:20260423T092534Z
DESCRIPTION:
DTSTART;TZID=America/Chicago:20250916T110000
DTEND;TZID=America/Chicago:20250916T120000
LOCATION:1228 S Main St\, Council Bluffs\, AL 51503 US
SUMMARY:Homebuyer Information Session
END:VEVENT
END:VCALENDAR
