BEGIN:VCALENDAR
VERSION:2.0
PRODID:-//habitatcb.org//NONSGML kigkonsult.se iCalcreator 2.30.10//
CALSCALE:GREGORIAN
METHOD:PUBLISH
UID:d50f45a2-1ce2-469e-b359-e42b6d6438f4
X-WR-CALDESC:Hey Friends\, we have a quick outdoor painting project that ne
 eds 4 to 6 folks to help us finish up.  This Friday from around 10 to 3 is
  ideal.  If you have some time and want to come and play\, Register to Vol
 unteer and Christine will reach out to you and give you all the details!
X-WR-RELCALID:39bd2b565308427cedcb88c5387fc99c
X-WR-TIMEZONE:America/Chicago
BEGIN:VTIMEZONE
TZID:America/Chicago
BEGIN:STANDARD
TZNAME:CST
DTSTART:20241103T020000
TZOFFSETFROM:-0500
TZOFFSETTO:-0600
RDATE:20251102T020000
RDATE:20261101T020000
END:STANDARD
BEGIN:DAYLIGHT
TZNAME:CDT
DTSTART:20250309T020000
TZOFFSETFROM:-0600
TZOFFSETTO:-0500
RDATE:20260308T020000
RDATE:20270314T020000
END:DAYLIGHT
END:VTIMEZONE
BEGIN:VEVENT
UID:84d39b27-c7b1-48e1-bd62-e9b1ca581ebf
DTSTAMP:20260423T072703Z
DESCRIPTION:Hey Friends\, we have a quick outdoor painting project that nee
 ds 4 to 6 folks to help us finish up.  This Friday from around 10 to 3 is 
 ideal.  If you have some time and want to come and play\, Register to Volu
 nteer and Christine will reach out to you and give you all the details!
DTSTART;TZID=America/Chicago:20251017T100000
DTEND;TZID=America/Chicago:20251017T150000
LOCATION:1228 South Main St\, Council Bluffs IA 51503\, Council Bluffs\, IA
  51503 US
SUMMARY:Calling All Volunteers!!!
END:VEVENT
END:VCALENDAR
