BEGIN:VCALENDAR
VERSION:2.0
PRODID:-//habitatcb.org//NONSGML kigkonsult.se iCalcreator 2.30.10//
CALSCALE:GREGORIAN
METHOD:PUBLISH
UID:148fc76d-ad37-45e6-82d1-c3ec68679137
X-WR-CALDESC:Join Lori Radford of Furniture Then and Now as she shows you t
 he super easy way to give an old piece of furniture a completely new look 
 with her own formula of chalk paint. You will be able to choose from a sel
 ection of small furniture items from the ReStore\, paint color and accents
 . this Make and Take project will last about 1.5 hours and at the end\, yo
 u will take home a brand-new accent piece for your porch\, patio or living
  room. \n\nThis Event is $30 per person: Includes paint\, supplies and you
 r choice OF SMALL furniture. \n\nWine and sweet treats provided \;-)
X-WR-RELCALID:29ec27bcbd915dbb8f414fa625fca7c2
X-WR-TIMEZONE:America/Chicago
BEGIN:VTIMEZONE
TZID:America/Chicago
BEGIN:STANDARD
TZNAME:CST
DTSTART:20241103T020000
TZOFFSETFROM:-0500
TZOFFSETTO:-0600
RDATE:20251102T020000
RDATE:20261101T020000
END:STANDARD
BEGIN:DAYLIGHT
TZNAME:CDT
DTSTART:20250309T020000
TZOFFSETFROM:-0600
TZOFFSETTO:-0500
RDATE:20260308T020000
RDATE:20270314T020000
END:DAYLIGHT
END:VTIMEZONE
BEGIN:VEVENT
UID:04135c72-b106-4f5b-b4ed-2aa4f1c7f3eb
DTSTAMP:20260423T072258Z
DESCRIPTION:Join Lori Radford of Furniture Then and Now as she shows you th
 e super easy way to give an old piece of furniture a completely new look w
 ith her own formula of chalk paint. You will be able to choose from a sele
 ction of small furniture items from the ReStore\, paint color and accents.
  this Make and Take project will last about 1.5 hours and at the end\, you
  will take home a brand-new accent piece for your porch\, patio or living 
 room. \n\nThis Event is $30 per person: Includes paint\, supplies and your
  choice OF SMALL furniture. \n\nWine and sweet treats provided \;-)
DTSTART;TZID=America/Chicago:20251023T173000
DTEND;TZID=America/Chicago:20251023T190000
LOCATION:Habitat Council Bluffs ReStore\, 1228 South Main St\, Council Bluf
 fs\, IA 51503 US
SUMMARY:SOLD OUT!!   LNO: Ladies Night Out Make and Take
END:VEVENT
END:VCALENDAR
