BEGIN:VCALENDAR
VERSION:2.0
PRODID:-//habitatcb.org//NONSGML kigkonsult.se iCalcreator 2.30.10//
CALSCALE:GREGORIAN
METHOD:PUBLISH
UID:5a4f30ab-798f-4589-88d7-20d5591c7710
X-WR-CALDESC:
X-WR-RELCALID:573552b2dc41d3cae935ffbbc4396d4d
X-WR-TIMEZONE:America/Chicago
BEGIN:VTIMEZONE
TZID:America/Chicago
BEGIN:STANDARD
TZNAME:CST
DTSTART:20241103T020000
TZOFFSETFROM:-0500
TZOFFSETTO:-0600
RDATE:20251102T020000
RDATE:20261101T020000
END:STANDARD
BEGIN:DAYLIGHT
TZNAME:CDT
DTSTART:20250309T020000
TZOFFSETFROM:-0600
TZOFFSETTO:-0500
RDATE:20260308T020000
RDATE:20270314T020000
END:DAYLIGHT
END:VTIMEZONE
BEGIN:VEVENT
UID:ea728abb-35f1-4ef0-b6d0-d0b027b38fd1
DTSTAMP:20260423T072330Z
DESCRIPTION:
DTSTART;TZID=America/Chicago:20251025T110000
DTEND;TZID=America/Chicago:20251025T120000
LOCATION:1228 S Main St\, Council Bluffs\, AL 51503 US
SUMMARY:Homebuyer Information Session
END:VEVENT
END:VCALENDAR
