BEGIN:VCALENDAR
VERSION:2.0
PRODID:-//habitatcb.org//NONSGML kigkonsult.se iCalcreator 2.30.10//
CALSCALE:GREGORIAN
METHOD:PUBLISH
UID:0461d26a-6bc8-42f9-b380-32ed889401ff
X-WR-CALDESC:The first one was such a Hit that we decided to hold a second 
 one just before the holidays!!!\nJoin Lori Radford of Furniture Then and N
 ow as she shows you the super easy way to give an old piece of furniture a
  completely new look with her own formula of chalk paint. You will be able
  to choose from a selection of small furniture items from the ReStore\, pa
 int color and accents. this Make and Take project will last about 1.5 hour
 s and at the end\, you will take home a brand-new accent piece for your po
 rch\, patio or living room. This Event is $30 per person: Includes paint\,
  supplies and your choice OF SMALL furniture. Wine and sweet treats provid
 ed \;-)
X-WR-RELCALID:f27d8023471ef6e15a00d928581eac14
X-WR-TIMEZONE:America/Chicago
BEGIN:VTIMEZONE
TZID:America/Chicago
BEGIN:STANDARD
TZNAME:CST
DTSTART:20251102T020000
TZOFFSETFROM:-0500
TZOFFSETTO:-0600
RDATE:20261101T020000
END:STANDARD
BEGIN:DAYLIGHT
TZNAME:CDT
DTSTART:20250309T020000
TZOFFSETFROM:-0600
TZOFFSETTO:-0500
RDATE:20260308T020000
RDATE:20270314T020000
END:DAYLIGHT
END:VTIMEZONE
BEGIN:VEVENT
UID:5ec4665e-e31f-441b-ba01-43b86de927bf
DTSTAMP:20260423T035735Z
DESCRIPTION:The first one was such a Hit that we decided to hold a second o
 ne just before the holidays!!!\nJoin Lori Radford of Furniture Then and No
 w as she shows you the super easy way to give an old piece of furniture a 
 completely new look with her own formula of chalk paint. You will be able 
 to choose from a selection of small furniture items from the ReStore\, pai
 nt color and accents. this Make and Take project will last about 1.5 hours
  and at the end\, you will take home a brand-new accent piece for your por
 ch\, patio or living room. This Event is $30 per person: Includes paint\, 
 supplies and your choice OF SMALL furniture. Wine and sweet treats provide
 d \;-)
DTSTART;TZID=America/Chicago:20251211T173000
DTEND;TZID=America/Chicago:20251211T190000
LOCATION:Habitat for Humanity of Council Bluffs ReStore\, 1228 South Main S
 t\, Council Bluffs\, IA 51503 US
SUMMARY:SOLD OUT!!!!LNO: Ladies Night Out Make and Take
END:VEVENT
END:VCALENDAR
