BEGIN:VCALENDAR
VERSION:2.0
PRODID:-//habitatcb.org//NONSGML kigkonsult.se iCalcreator 2.30.10//
CALSCALE:GREGORIAN
METHOD:PUBLISH
UID:30518ab2-25c8-4e9d-8872-e50514ff4d97
X-WR-CALDESC:
X-WR-RELCALID:2a241f3b9d2c5ad3080f9bb8bdb63759
X-WR-TIMEZONE:America/Chicago
BEGIN:VTIMEZONE
TZID:America/Chicago
BEGIN:STANDARD
TZNAME:CST
DTSTART:20251102T020000
TZOFFSETFROM:-0500
TZOFFSETTO:-0600
RDATE:20261101T020000
END:STANDARD
BEGIN:DAYLIGHT
TZNAME:CDT
DTSTART:20250309T020000
TZOFFSETFROM:-0600
TZOFFSETTO:-0500
RDATE:20260308T020000
RDATE:20270314T020000
END:DAYLIGHT
END:VTIMEZONE
BEGIN:VEVENT
UID:4c957274-416c-4c9e-8905-4ef689ed87df
DTSTAMP:20260423T003030Z
DESCRIPTION:
DTSTART;TZID=America/Chicago:20260214T110000
DTEND;TZID=America/Chicago:20260214T120000
LOCATION:1228 S Main St\, Council Bluffs\, AL 51503 US
SUMMARY:Homebuyer Information Session
END:VEVENT
END:VCALENDAR
