BEGIN:VCALENDAR
VERSION:2.0
PRODID:-//habitatcb.org//NONSGML kigkonsult.se iCalcreator 2.30.10//
CALSCALE:GREGORIAN
METHOD:PUBLISH
UID:792da138-c701-4de0-911a-93c07b89b3b3
X-WR-CALDESC:
X-WR-RELCALID:98dafc0387a28c811d240cc57a059209
X-WR-TIMEZONE:America/Chicago
BEGIN:VTIMEZONE
TZID:America/Chicago
BEGIN:STANDARD
TZNAME:CST
DTSTART:20251102T020000
TZOFFSETFROM:-0500
TZOFFSETTO:-0600
RDATE:20261101T020000
END:STANDARD
BEGIN:DAYLIGHT
TZNAME:CDT
DTSTART:20250309T020000
TZOFFSETFROM:-0600
TZOFFSETTO:-0500
RDATE:20260308T020000
RDATE:20270314T020000
END:DAYLIGHT
END:VTIMEZONE
BEGIN:VEVENT
UID:c38e0c74-7a50-46f9-99bf-e7ffc3312d5d
DTSTAMP:20260423T002539Z
DESCRIPTION:
DTSTART;TZID=America/Chicago:20260228T110000
DTEND;TZID=America/Chicago:20260228T123000
LOCATION:1228 S Main St\, Council Bluffs\, AL 51503 US
SUMMARY:Homebuyer Information Session
END:VEVENT
END:VCALENDAR
