BEGIN:VCALENDAR
VERSION:2.0
PRODID:-//habitatcb.org//NONSGML kigkonsult.se iCalcreator 2.30.10//
CALSCALE:GREGORIAN
METHOD:PUBLISH
UID:96c4ebff-c9d1-47f5-b3cb-6e56382489b2
X-WR-CALDESC:Grab 8 of your brainiest friends\nfor an evening of trivia\,\n
 prizes and fun!
X-WR-RELCALID:f4358022791f361257034e02d74fc3ca
X-WR-TIMEZONE:America/Chicago
BEGIN:VTIMEZONE
TZID:America/Chicago
BEGIN:STANDARD
TZNAME:CST
DTSTART:20251102T020000
TZOFFSETFROM:-0500
TZOFFSETTO:-0600
RDATE:20261101T020000
END:STANDARD
BEGIN:DAYLIGHT
TZNAME:CDT
DTSTART:20260308T020000
TZOFFSETFROM:-0600
TZOFFSETTO:-0500
RDATE:20270314T020000
END:DAYLIGHT
END:VTIMEZONE
BEGIN:VEVENT
UID:935fc107-46e3-42c3-a78e-5927d7d5fb91
DTSTAMP:20260422T225738Z
DESCRIPTION:Grab 8 of your brainiest friends\nfor an evening of trivia\,\np
 rizes and fun!
DTSTART;TZID=America/Chicago:20260313T183000
DTEND;TZID=America/Chicago:20260313T220000
LOCATION:The Acres\, 21264 Homestead Ave\, Council Bluffs\, IA 51503 US
SUMMARY:3rd Annual Trivia Night 'FUN'draiser
END:VEVENT
END:VCALENDAR
