BEGIN:VCALENDAR
VERSION:2.0
PRODID:-//habitatcb.org//NONSGML kigkonsult.se iCalcreator 2.30.10//
CALSCALE:GREGORIAN
METHOD:PUBLISH
UID:7729838b-26af-49f0-874f-1d1b7b1fcb4f
X-WR-CALDESC:
X-WR-RELCALID:f055e65dbe7850d29e808ccbdb99caad
X-WR-TIMEZONE:America/Chicago
BEGIN:VTIMEZONE
TZID:America/Chicago
BEGIN:STANDARD
TZNAME:CST
DTSTART:20251102T020000
TZOFFSETFROM:-0500
TZOFFSETTO:-0600
RDATE:20261101T020000
END:STANDARD
BEGIN:DAYLIGHT
TZNAME:CDT
DTSTART:20260308T020000
TZOFFSETFROM:-0600
TZOFFSETTO:-0500
RDATE:20270314T020000
END:DAYLIGHT
END:VTIMEZONE
BEGIN:VEVENT
UID:7d5ed661-3288-4c39-8e98-8653db2b40ba
DTSTAMP:20260422T224019Z
DESCRIPTION:
DTSTART;TZID=America/Chicago:20260314T110000
DTEND;TZID=America/Chicago:20260314T120000
LOCATION:1228 S Main St\, Council Bluffs\, IA 51503 US
SUMMARY:Homebuyer Information Session
END:VEVENT
END:VCALENDAR
