BEGIN:VCALENDAR
VERSION:2.0
PRODID:-//habitatcb.org//NONSGML kigkonsult.se iCalcreator 2.30.10//
CALSCALE:GREGORIAN
METHOD:PUBLISH
UID:735d9017-bd44-46bc-839b-bde15e4e53d3
X-WR-CALDESC:
X-WR-RELCALID:c3cabc70628d88e4423dc8042d9a5fc1
X-WR-TIMEZONE:America/Chicago
BEGIN:VTIMEZONE
TZID:America/Chicago
BEGIN:STANDARD
TZNAME:CST
DTSTART:20251102T020000
TZOFFSETFROM:-0500
TZOFFSETTO:-0600
RDATE:20261101T020000
END:STANDARD
BEGIN:DAYLIGHT
TZNAME:CDT
DTSTART:20260308T020000
TZOFFSETFROM:-0600
TZOFFSETTO:-0500
RDATE:20270314T020000
END:DAYLIGHT
END:VTIMEZONE
BEGIN:VEVENT
UID:0aac77b0-9533-47f5-9b81-747d25dbc28b
DTSTAMP:20260422T225407Z
DESCRIPTION:
DTSTART;TZID=America/Chicago:20260328T110000
DTEND;TZID=America/Chicago:20260328T120000
LOCATION:1228 S Main St\, Council Bluffs\, IA 51503 US
SUMMARY:Homebuyer Information Session
END:VEVENT
END:VCALENDAR
