BEGIN:VCALENDAR
VERSION:2.0
PRODID:-//habitatcb.org//NONSGML kigkonsult.se iCalcreator 2.30.10//
CALSCALE:GREGORIAN
METHOD:PUBLISH
UID:ca9f0ccf-e16e-436a-b6b4-5e4db31a4fa8
X-WR-CALDESC:
X-WR-RELCALID:41f94b575d19da4b619d4421ff5cfb64
X-WR-TIMEZONE:America/Chicago
BEGIN:VTIMEZONE
TZID:America/Chicago
BEGIN:STANDARD
TZNAME:CST
DTSTART:20251102T020000
TZOFFSETFROM:-0500
TZOFFSETTO:-0600
RDATE:20261101T020000
END:STANDARD
BEGIN:DAYLIGHT
TZNAME:CDT
DTSTART:20260308T020000
TZOFFSETFROM:-0600
TZOFFSETTO:-0500
RDATE:20270314T020000
END:DAYLIGHT
END:VTIMEZONE
BEGIN:VEVENT
UID:42984e87-c259-4aa6-924a-e8e01b1f7365
DTSTAMP:20260422T212005Z
DESCRIPTION:
DTSTART;TZID=America/Chicago:20260416T180000
DTEND;TZID=America/Chicago:20260416T190000
LOCATION:1228 S Main St\, Council Bluffs\, IA 51503 US
SUMMARY:Homebuyer Information Session
END:VEVENT
END:VCALENDAR
