BEGIN:VCALENDAR
VERSION:2.0
PRODID:-//habitatcb.org//NONSGML kigkonsult.se iCalcreator 2.30.10//
CALSCALE:GREGORIAN
METHOD:PUBLISH
UID:82e0f42a-c7ba-4eb0-a4e4-2aec0713a471
X-WR-CALDESC:
X-WR-RELCALID:3bddc6207efb67e53a978365daaeb779
X-WR-TIMEZONE:America/Chicago
BEGIN:VTIMEZONE
TZID:America/Chicago
BEGIN:STANDARD
TZNAME:CST
DTSTART:20251102T020000
TZOFFSETFROM:-0500
TZOFFSETTO:-0600
RDATE:20261101T020000
END:STANDARD
BEGIN:DAYLIGHT
TZNAME:CDT
DTSTART:20260308T020000
TZOFFSETFROM:-0600
TZOFFSETTO:-0500
RDATE:20270314T020000
END:DAYLIGHT
END:VTIMEZONE
BEGIN:VEVENT
UID:2ea98905-dde7-4adb-9795-adcf47afca00
DTSTAMP:20260422T212022Z
DESCRIPTION:
DTSTART;TZID=America/Chicago:20260423T180000
DTEND;TZID=America/Chicago:20260423T190000
LOCATION:207 Main St\, Minden\, IA 51533 US
SUMMARY:MINDEN- Homebuyer Information Session Zoom or In-Person
END:VEVENT
END:VCALENDAR
