BEGIN:VCALENDAR
VERSION:2.0
PRODID:-//habitatcb.org//NONSGML kigkonsult.se iCalcreator 2.30.10//
CALSCALE:GREGORIAN
METHOD:PUBLISH
UID:a3d12873-fe56-49c6-95d9-b41928f3e8b0
X-WR-CALDESC:
X-WR-RELCALID:a5220f0f5b494002ec57733994946eb0
X-WR-TIMEZONE:America/Chicago
BEGIN:VTIMEZONE
TZID:America/Chicago
BEGIN:STANDARD
TZNAME:CST
DTSTART:20251102T020000
TZOFFSETFROM:-0500
TZOFFSETTO:-0600
RDATE:20261101T020000
END:STANDARD
BEGIN:DAYLIGHT
TZNAME:CDT
DTSTART:20260308T020000
TZOFFSETFROM:-0600
TZOFFSETTO:-0500
RDATE:20270314T020000
END:DAYLIGHT
END:VTIMEZONE
BEGIN:VEVENT
UID:b70dfff7-7821-40f6-9b8f-f21c56a2e408
DTSTAMP:20260424T140314Z
DESCRIPTION:
DTSTART;TZID=America/Chicago:20260425T120000
DTEND;TZID=America/Chicago:20260425T130000
LOCATION:207 Main St\, Minden\, IA 51533 US
SUMMARY:MINDEN- Homebuyer Information Session Zoom or In Person
END:VEVENT
END:VCALENDAR
