BEGIN:VCALENDAR
VERSION:2.0
PRODID:-//habitatcb.org//NONSGML kigkonsult.se iCalcreator 2.30.10//
CALSCALE:GREGORIAN
METHOD:PUBLISH
UID:fdab6a32-eb38-4500-8ec0-7299211403bf
X-WR-CALDESC:Stop by and learn more about Habitat for Humanity of Council B
 luffs and its different programs. \n\nHomeownership\nHome Repair\nThe ReSt
 ore\n
X-WR-RELCALID:6c3335ec3c587f93c1960d43c8427df3
X-WR-TIMEZONE:America/Chicago
BEGIN:VTIMEZONE
TZID:America/Chicago
BEGIN:STANDARD
TZNAME:CST
DTSTART:20251102T020000
TZOFFSETFROM:-0500
TZOFFSETTO:-0600
RDATE:20261101T020000
END:STANDARD
BEGIN:DAYLIGHT
TZNAME:CDT
DTSTART:20260308T020000
TZOFFSETFROM:-0600
TZOFFSETTO:-0500
RDATE:20270314T020000
END:DAYLIGHT
END:VTIMEZONE
BEGIN:VEVENT
UID:d9327088-cdc3-487f-8046-98e5b74ce451
DTSTAMP:20260424T140612Z
DESCRIPTION:Stop by and learn more about Habitat for Humanity of Council Bl
 uffs and its different programs. \n\nHomeownership\nHome Repair\nThe ReSto
 re\n
DTSTART;TZID=America/Chicago:20260425T100000
DTEND;TZID=America/Chicago:20260425T150000
LOCATION:Veterans Service Office\, 623 6th Ave\, Council Bluffs\, IA 51503 
 US
SUMMARY:Veterans Resource Fair
END:VEVENT
END:VCALENDAR
