BEGIN:VCALENDAR
VERSION:2.0
PRODID:-//habitatcb.org//NONSGML kigkonsult.se iCalcreator 2.30.10//
CALSCALE:GREGORIAN
METHOD:PUBLISH
UID:15f5c1dc-c18d-4848-b5e9-74ba71d91c4b
X-WR-CALDESC:
X-WR-RELCALID:943ca8bac515be6e17288c3b87214ca3
X-WR-TIMEZONE:America/Chicago
BEGIN:VTIMEZONE
TZID:America/Chicago
BEGIN:STANDARD
TZNAME:CST
DTSTART:20251102T020000
TZOFFSETFROM:-0500
TZOFFSETTO:-0600
RDATE:20261101T020000
RDATE:20271107T020000
END:STANDARD
BEGIN:DAYLIGHT
TZNAME:CDT
DTSTART:20260308T020000
TZOFFSETFROM:-0600
TZOFFSETTO:-0500
RDATE:20270314T020000
END:DAYLIGHT
END:VTIMEZONE
BEGIN:VEVENT
UID:a9224e30-5e9a-402b-a46e-083190c174f6
DTSTAMP:20260422T225407Z
DESCRIPTION:
DTSTART;TZID=America/Chicago:20260512T110000
DTEND;TZID=America/Chicago:20260512T120000
LOCATION:1228 S Main St\, Council Bluffs\, IA 51503 US
SUMMARY:Homebuyer Information Session ZOOM ONLY
END:VEVENT
END:VCALENDAR
