BEGIN:VCALENDAR
VERSION:2.0
PRODID:-//habitatcb.org//NONSGML kigkonsult.se iCalcreator 2.30.10//
CALSCALE:GREGORIAN
METHOD:PUBLISH
UID:3d4681ea-039c-440d-84ce-d0da8f4f19b5
X-WR-CALDESC:
X-WR-RELCALID:194264bba148ea88c363d25dbf1f0fc4
X-WR-TIMEZONE:America/Chicago
BEGIN:VTIMEZONE
TZID:America/Chicago
BEGIN:STANDARD
TZNAME:CST
DTSTART:20251102T020000
TZOFFSETFROM:-0500
TZOFFSETTO:-0600
RDATE:20261101T020000
RDATE:20271107T020000
END:STANDARD
BEGIN:DAYLIGHT
TZNAME:CDT
DTSTART:20260308T020000
TZOFFSETFROM:-0600
TZOFFSETTO:-0500
RDATE:20270314T020000
END:DAYLIGHT
END:VTIMEZONE
BEGIN:VEVENT
UID:f0d351b2-cddc-498c-8338-1e3619cd736f
DTSTAMP:20260422T113016Z
DESCRIPTION:
DTSTART;TZID=America/Chicago:20260521T180000
DTEND;TZID=America/Chicago:20260521T190000
LOCATION:1228 S Main St\, Council Bluffs\, IA 51503 US
SUMMARY:Homebuyer Information Session
END:VEVENT
END:VCALENDAR
