BEGIN:VCALENDAR
VERSION:2.0
PRODID:-//habitatcb.org//NONSGML kigkonsult.se iCalcreator 2.30.10//
CALSCALE:GREGORIAN
METHOD:PUBLISH
UID:55e773da-6e0e-4f9d-977c-91db51fee0b8
X-WR-CALDESC:Stop by our table to learn more about Habitat for Humanity of 
 Council Bluffs and spin the wheel for cool swag!
X-WR-RELCALID:1a29ffb34233f756d916d563e6344a77
X-WR-TIMEZONE:America/Chicago
BEGIN:VTIMEZONE
TZID:America/Chicago
BEGIN:STANDARD
TZNAME:CST
DTSTART:20251102T020000
TZOFFSETFROM:-0500
TZOFFSETTO:-0600
RDATE:20261101T020000
RDATE:20271107T020000
END:STANDARD
BEGIN:DAYLIGHT
TZNAME:CDT
DTSTART:20260308T020000
TZOFFSETFROM:-0600
TZOFFSETTO:-0500
RDATE:20270314T020000
END:DAYLIGHT
END:VTIMEZONE
BEGIN:VEVENT
UID:3f9a8058-bb30-4034-8c44-f8cb5598b058
DTSTAMP:20260423T015559Z
DESCRIPTION:Stop by our table to learn more about Habitat for Humanity of C
 ouncil Bluffs and spin the wheel for cool swag!
DTSTART;TZID=America/Chicago:20260716T163000
DTEND;TZID=America/Chicago:20260716T193000
LOCATION:Bayliss Park\, 100 Pearl St\, Council Bluffs\, IA 51503 US
SUMMARY:Farmers Market Council Bluffs
END:VEVENT
END:VCALENDAR
