BEGIN:VCALENDAR
VERSION:2.0
PRODID:-//habitatcb.org//NONSGML kigkonsult.se iCalcreator 2.30.10//
CALSCALE:GREGORIAN
METHOD:PUBLISH
UID:ba2c9d3f-2ba0-46e6-8afc-0f392e72cb21
X-WR-CALDESC:
X-WR-RELCALID:f4b24947054b7ed746bbdb0511a25dae
X-WR-TIMEZONE:America/Chicago
BEGIN:VTIMEZONE
TZID:America/Chicago
BEGIN:STANDARD
TZNAME:CST
DTSTART:20251102T020000
TZOFFSETFROM:-0500
TZOFFSETTO:-0600
RDATE:20261101T020000
RDATE:20271107T020000
END:STANDARD
BEGIN:DAYLIGHT
TZNAME:CDT
DTSTART:20260308T020000
TZOFFSETFROM:-0600
TZOFFSETTO:-0500
RDATE:20270314T020000
END:DAYLIGHT
END:VTIMEZONE
BEGIN:VEVENT
UID:2fae3e2a-075c-4f88-9a5a-dcb232885ed4
DTSTAMP:20260423T021908Z
DESCRIPTION:
DTSTART;TZID=America/Chicago:20260718T093000
DTEND;TZID=America/Chicago:20260718T120000
LOCATION:Downtown Omaha\, 10th and Farnam\, Omaha\, NE 68132 US
SUMMARY:Heartland Pride Parade 2026
END:VEVENT
END:VCALENDAR
