BEGIN:VCALENDAR
VERSION:2.0
PRODID:-//habitatcb.org//NONSGML kigkonsult.se iCalcreator 2.30.10//
CALSCALE:GREGORIAN
METHOD:PUBLISH
UID:0c18792b-7e66-445f-afc3-b949285c62fb
X-WR-CALDESC:Stop by our table to learn more about Habitat for Humanity of 
 Council Bluffs and spin the wheel for cool swag!
X-WR-RELCALID:a9b531e5e17c2744ea58255122a71fe7
X-WR-TIMEZONE:America/Chicago
BEGIN:VTIMEZONE
TZID:America/Chicago
BEGIN:STANDARD
TZNAME:CST
DTSTART:20251102T020000
TZOFFSETFROM:-0500
TZOFFSETTO:-0600
RDATE:20261101T020000
RDATE:20271107T020000
END:STANDARD
BEGIN:DAYLIGHT
TZNAME:CDT
DTSTART:20260308T020000
TZOFFSETFROM:-0600
TZOFFSETTO:-0500
RDATE:20270314T020000
END:DAYLIGHT
END:VTIMEZONE
BEGIN:VEVENT
UID:412b64ef-b404-49a3-9cb0-7f9d6d4271c3
DTSTAMP:20260423T035045Z
DESCRIPTION:Stop by our table to learn more about Habitat for Humanity of C
 ouncil Bluffs and spin the wheel for cool swag!
DTSTART;TZID=America/Chicago:20260806T163000
DTEND;TZID=America/Chicago:20260806T193000
LOCATION:Bayliss Park\, 100 Pearl St\, Council Bluffs\, IA 51503 US
SUMMARY:Farmers Market Council Bluffs
END:VEVENT
END:VCALENDAR
